BEGIN:VCALENDAR
VERSION:2.0
PRODID:-//CFEP - ECPv6.15.20//NONSGML v1.0//EN
CALSCALE:GREGORIAN
METHOD:PUBLISH
X-WR-CALNAME:CFEP
X-ORIGINAL-URL:https://cfep.be
X-WR-CALDESC:Évènements pour CFEP
REFRESH-INTERVAL;VALUE=DURATION:PT1H
X-Robots-Tag:noindex
X-PUBLISHED-TTL:PT1H
BEGIN:VTIMEZONE
TZID:Europe/Helsinki
BEGIN:DAYLIGHT
TZOFFSETFROM:+0200
TZOFFSETTO:+0300
TZNAME:EEST
DTSTART:20220327T010000
END:DAYLIGHT
BEGIN:STANDARD
TZOFFSETFROM:+0300
TZOFFSETTO:+0200
TZNAME:EET
DTSTART:20221030T010000
END:STANDARD
BEGIN:DAYLIGHT
TZOFFSETFROM:+0200
TZOFFSETTO:+0300
TZNAME:EEST
DTSTART:20230326T010000
END:DAYLIGHT
BEGIN:STANDARD
TZOFFSETFROM:+0300
TZOFFSETTO:+0200
TZNAME:EET
DTSTART:20231029T010000
END:STANDARD
BEGIN:DAYLIGHT
TZOFFSETFROM:+0200
TZOFFSETTO:+0300
TZNAME:EEST
DTSTART:20240331T010000
END:DAYLIGHT
BEGIN:STANDARD
TZOFFSETFROM:+0300
TZOFFSETTO:+0200
TZNAME:EET
DTSTART:20241027T010000
END:STANDARD
END:VTIMEZONE
BEGIN:VEVENT
DTSTART;TZID=Europe/Helsinki:20230916T100000
DTEND;TZID=Europe/Helsinki:20230916T120000
DTSTAMP:20260422T114723
CREATED:20230831T084938Z
LAST-MODIFIED:20230831T084938Z
UID:4812-1694858400-1694865600@cfep.be
SUMMARY:Atelier de cosmétiques naturels
DESCRIPTION:Dans le cadre des Journées Féministes 2023 sur le thème éco féminisme & self care\, nous organisons un atelier de fabrication de cosmétiques en collaboration avec Amazone asbl. \nVous apprendrez à confectionner vos cosmétiques à base de produits naturels\, durables et économiques. Vous repartirez avec les produits que vous aurez fabriqué ! \nLes places sont limitées – Inscriptions obligatoires ici \n 
URL:https://cfep.be/evenement/atelier-de-cosmetiques-naturels/
LOCATION:amazone asbl\, rue du Méridien\, Bruxelles\, 1210\, Belgique
CATEGORIES:Bien-être
ATTACH;FMTTYPE=image/png:https://cfep.be/wp-content/uploads/2023/08/atelier-de-cosmetiques-1.png
ORGANIZER;CN="CFEP":MAILTO:info@cfep.be
END:VEVENT
END:VCALENDAR